49.3696
0
0
-49.3832
388522.6624
3112667.8688
