55.3182
0
0
-55.3347
362669.8571
2891913.41104
