52.2501
0
0
-52.2471
183664.3551
3002623.9437
