51.5912
0
0
-51.606
579465.0056
3235918.64
