49.9588
0
0
-49.9755
387367.1072
3224039.191
