47.5566
0
0
-47.544
584161.9212
3459842.664
