49.0869
0
0
-49.0857
196191.1912
3448899.0482
