49.6737
0
0
-49.6968
584499.9031
3226688.0864
