50.8039
0
0
-50.8135
588483.04274
2895712.599
