51.0072
0
0
-50.9948
182502.7104
2891877.572
