52.1789
0
0
-52.1925
589544.1475
2451243.1775
