47.7712
0
0
-47.7788
391749.52
3332457.0644
