48.8471
0
0
-48.8604
390557.2907
3445701.4272
