46.4641
0
0
-46.4532
394060.8903
3567269.206
