52.214
0
0
-52.2198
179243.4104
2783760.926
