49.9588
0
0
-49.9755
187866.6952
3003039.681
