48.2116
0
0
-48.2249
191918.7344
3109790.6516
