55.8664
0
0
-55.8976
360277.2776
2784931.136
