48.6934
0
0
-48.7097
587094.6022
3113430.3798
