51.5882
0
0
-51.6293
384508.72294
3124153.57312
