52.1553
0
0
-52.1653
591118.0235
2560658.3389
