49.5667
0
0
-49.579
387309.2903
2666758.545
