51.0757
0
0
-51.086
180538.5543
2670435.414
