47.8835
0
0
-47.8983
584914.9695
3349038.0202
