48.2708
0
0
-48.2672
198421.1392
3446218.728
