51.606
0
0
-51.6194
380118.398
3567101.1264
