49.236
0
0
-49.2346
584341.228
3226735.2366
