49.4782
0
0
-49.4831
196644.598
3340981.7657
