49.6419
0
0
-49.6529
581829.5352
3560408.2825
