52.141
0
0
-52.1109
178933.232
2781209.9534
