50.3079
0
0
-50.3023
387108.2393
3000675.2177
