52.2844
0
0
-52.2061
586418.226
2894563.7546
