48.4462
0
0
-48.4665
389733.09844
2996600.7057
