52.1267
0
0
-52.1381
177166.6839
2449969.7681
