52.0981
0
0
-52.1381
176033.1033
2560751.8396
