51.6
0
0
-51.6
382660.8
2445945.2
