50.8706
0
0
-50.891
590514.8692
2671375.035
