49.0821
0
0
-49.0941
491523.78025
2666698.08021
